BEGIN:VCALENDAR
VERSION:2.0
PRODID:-//Association Sportive des Golfs de Lacanau - ECPv6.15.20//NONSGML v1.0//EN
CALSCALE:GREGORIAN
METHOD:PUBLISH
X-WR-CALNAME:Association Sportive des Golfs de Lacanau
X-ORIGINAL-URL:https://asgolfslacanau.org
X-WR-CALDESC:Évènements pour Association Sportive des Golfs de Lacanau
REFRESH-INTERVAL;VALUE=DURATION:PT1H
X-Robots-Tag:noindex
X-PUBLISHED-TTL:PT1H
BEGIN:VTIMEZONE
TZID:UTC
BEGIN:STANDARD
TZOFFSETFROM:+0000
TZOFFSETTO:+0000
TZNAME:UTC
DTSTART:20250101T000000
END:STANDARD
END:VTIMEZONE
BEGIN:VEVENT
DTSTART;VALUE=DATE:20260104
DTEND;VALUE=DATE:20260105
DTSTAMP:20260421T112646
CREATED:20251203T162351Z
LAST-MODIFIED:20251203T162351Z
UID:34523-1767484800-1767571199@asgolfslacanau.org
SUMMARY:CHAMPIONNAT D'HIVER DE MATCH-PLAY
DESCRIPTION:CHAMPIONNAT D’HIVER DE MATCH-PLAY 2026\nLe championnat d’hiver de match-play va démarrer le 2 janvier 2026 pour se conclure par deux week-ends de finales le 5 avril 2026 pour les doubles et le 12 avril 2026 pour les simples. La remise des prix pour les simples et les doubles se fera le 12 avril 2026 à l’issue des finales simples.\nLe championnat se déroulera sur le parcours de l’Ardilouse\, une consolante sur 9 trous se déroulera sur le parcours de la Méjanne pour les perdants du premier tour des simples. \n \nLe championnat se déroulera avec plusieurs tableaux\, vous pouvez participer en simple et en double – le règlement détaillé est disponible sur le site de l’association .\nLes inscriptions sont à faire au secrétariat de l’Ardilouse (ou au 05 56 03 92 98) avant le mercredi 24  décembre 2025 à midi\, le prix d’inscription est de 20 € par joueur pour les épreuves en simple (30€ non- membre ASGL) et 10€ par joueur pour les épreuves en double à régler à l’accueil (15€ non- membre ASGL) de l’Ardilouse avec l’inscription.\n\n\n \n\nTous(tes) les joueurs(ses) ayant perdu au 1er tour de simple pourront participer au tournoi de la Consolante organisé au golf de la Méjanne et sur 9 trous avec les mêmes règles que pour les tableaux principaux.\n\nLe Comité́ de Tournoi se réserve la possibilité́ de fusionner deux tableaux si le nombre de participants (es) est insuffisant.\nSauf modification motivée pour le bon déroulement du Tournoi\, le calendrier prévisionnel des matches est le suivant : \n\nPour toute question\, vous pouvez contacter Alain Résigné (mp.asgl@orange.fr) en charge de l’organisation et du suivi. \nMerci de votre participation!
URL:https://asgolfslacanau.org/evenement/championnat-d-hiver-de-match-play-2/
LOCATION:GOLF DE L’ARDILOUSE
CATEGORIES:ASGL ANIMATION CLUB
ATTACH;FMTTYPE=image/jpeg:https://asgolfslacanau.org/wp-content/uploads/2025/12/Affiche-Match-Play-2026-1.jpg
END:VEVENT
END:VCALENDAR