BEGIN:VCALENDAR
VERSION:2.0
PRODID:-//Association Sportive des Golfs de Lacanau - ECPv6.15.20//NONSGML v1.0//EN
CALSCALE:GREGORIAN
METHOD:PUBLISH
X-WR-CALNAME:Association Sportive des Golfs de Lacanau
X-ORIGINAL-URL:https://asgolfslacanau.org
X-WR-CALDESC:Évènements pour Association Sportive des Golfs de Lacanau
REFRESH-INTERVAL;VALUE=DURATION:PT1H
X-Robots-Tag:noindex
X-PUBLISHED-TTL:PT1H
BEGIN:VTIMEZONE
TZID:Europe/Paris
BEGIN:DAYLIGHT
TZOFFSETFROM:+0100
TZOFFSETTO:+0200
TZNAME:CEST
DTSTART:20160327T010000
END:DAYLIGHT
BEGIN:STANDARD
TZOFFSETFROM:+0200
TZOFFSETTO:+0100
TZNAME:CET
DTSTART:20161030T010000
END:STANDARD
BEGIN:DAYLIGHT
TZOFFSETFROM:+0100
TZOFFSETTO:+0200
TZNAME:CEST
DTSTART:20170326T010000
END:DAYLIGHT
BEGIN:STANDARD
TZOFFSETFROM:+0200
TZOFFSETTO:+0100
TZNAME:CET
DTSTART:20171029T010000
END:STANDARD
BEGIN:DAYLIGHT
TZOFFSETFROM:+0100
TZOFFSETTO:+0200
TZNAME:CEST
DTSTART:20180325T010000
END:DAYLIGHT
BEGIN:STANDARD
TZOFFSETFROM:+0200
TZOFFSETTO:+0100
TZNAME:CET
DTSTART:20181028T010000
END:STANDARD
END:VTIMEZONE
BEGIN:VEVENT
DTSTART;TZID=Europe/Paris:20170506T141500
DTEND;TZID=Europe/Paris:20170506T170000
DTSTAMP:20260419T133330
CREATED:20170416T093159Z
LAST-MODIFIED:20170416T093159Z
UID:1332-1494080100-1494090000@asgolfslacanau.org
SUMMARY:Réunion des parents des élèves de l'école des golfs de Lacanau
DESCRIPTION:Une réunion des parents des élèves de l’école des golfs de Lacanau (parents des élèves du Baganais et de l’Ardilouse) aura lieu le samedi 06 mai 2017 à l’ardilouse salle du bistrot du golf (1er étage) à partir de 14h15. \nvoir : la convocation et l’ordre du jour
URL:https://asgolfslacanau.org/evenement/reunion-des-parents-des-eleves-de-lecole-des-golfs-de-lacanau/
CATEGORIES:EDG LACANAU
END:VEVENT
END:VCALENDAR