BEGIN:VCALENDAR
VERSION:2.0
PRODID:-//Association Sportive des Golfs de Lacanau - ECPv6.15.20//NONSGML v1.0//EN
CALSCALE:GREGORIAN
METHOD:PUBLISH
X-WR-CALNAME:Association Sportive des Golfs de Lacanau
X-ORIGINAL-URL:https://asgolfslacanau.org
X-WR-CALDESC:Évènements pour Association Sportive des Golfs de Lacanau
REFRESH-INTERVAL;VALUE=DURATION:PT1H
X-Robots-Tag:noindex
X-PUBLISHED-TTL:PT1H
BEGIN:VTIMEZONE
TZID:UTC
BEGIN:STANDARD
TZOFFSETFROM:+0000
TZOFFSETTO:+0000
TZNAME:UTC
DTSTART:20240101T000000
END:STANDARD
END:VTIMEZONE
BEGIN:VEVENT
DTSTART;TZID=UTC:20251026T090000
DTEND;TZID=UTC:20251026T180000
DTSTAMP:20260421T094606
CREATED:20250930T191853Z
LAST-MODIFIED:20250930T193619Z
UID:34473-1761469200-1761501600@asgolfslacanau.org
SUMMARY:Octobre Rose sur le Golf de L'Ardilouse
DESCRIPTION:Le dimanche 26 Octobre se tiendra sur le Golf de L’Ardilouse  la compétition Octobre Rose. \nMerci à tous de venir nombreux\, les droits de jeux et dons seront intégralement reversés à l’Institut Bergonié pour son travail sur le dépistage et ses recherches  sur le cancer du sein. \nUne première compétition sera également organisée le dimanche 19 Octobre sur le Méjannais (Méjanne+Baganais).
URL:https://asgolfslacanau.org/evenement/octobre-rose-sur-le-golf-de-lardilouse/
LOCATION:GOLF DE L’ARDILOUSE
CATEGORIES:ASGL COMPETITIONS CLUB
ATTACH;FMTTYPE=image/jpeg:https://asgolfslacanau.org/wp-content/uploads/2025/09/images.jpeg
END:VEVENT
END:VCALENDAR