BEGIN:VCALENDAR
VERSION:2.0
PRODID:-//Association Sportive des Golfs de Lacanau - ECPv6.15.20//NONSGML v1.0//EN
CALSCALE:GREGORIAN
METHOD:PUBLISH
X-WR-CALNAME:Association Sportive des Golfs de Lacanau
X-ORIGINAL-URL:https://asgolfslacanau.org
X-WR-CALDESC:Évènements pour Association Sportive des Golfs de Lacanau
REFRESH-INTERVAL;VALUE=DURATION:PT1H
X-Robots-Tag:noindex
X-PUBLISHED-TTL:PT1H
BEGIN:VTIMEZONE
TZID:UTC
BEGIN:STANDARD
TZOFFSETFROM:+0000
TZOFFSETTO:+0000
TZNAME:UTC
DTSTART:20150101T000000
END:STANDARD
END:VTIMEZONE
BEGIN:VEVENT
DTSTART;TZID=UTC:20161127T090000
DTEND;TZID=UTC:20161127T150000
DTSTAMP:20260421T115552
CREATED:20161119T172716Z
LAST-MODIFIED:20161119T172716Z
UID:32740-1480237200-1480258800@asgolfslacanau.org
SUMMARY:IEG U17 à Lacanau contre Pessac
DESCRIPTION:L’équipe U17 reçoit l’équipe de Pessac le dimanche 27 novembre 2016 à l’Ardilouse à 10h20.
URL:https://asgolfslacanau.org/evenement/ieg-u17-a-lacanau-contre-pessac/
CATEGORIES:EDG LACANAU
END:VEVENT
END:VCALENDAR