BEGIN:VCALENDAR
VERSION:2.0
PRODID:-//Association Sportive des Golfs de Lacanau - ECPv6.15.20//NONSGML v1.0//EN
CALSCALE:GREGORIAN
METHOD:PUBLISH
X-WR-CALNAME:Association Sportive des Golfs de Lacanau
X-ORIGINAL-URL:https://asgolfslacanau.org
X-WR-CALDESC:Évènements pour Association Sportive des Golfs de Lacanau
REFRESH-INTERVAL;VALUE=DURATION:PT1H
X-Robots-Tag:noindex
X-PUBLISHED-TTL:PT1H
BEGIN:VTIMEZONE
TZID:Europe/Paris
BEGIN:DAYLIGHT
TZOFFSETFROM:+0100
TZOFFSETTO:+0200
TZNAME:CEST
DTSTART:20220327T010000
END:DAYLIGHT
BEGIN:STANDARD
TZOFFSETFROM:+0200
TZOFFSETTO:+0100
TZNAME:CET
DTSTART:20221030T010000
END:STANDARD
BEGIN:DAYLIGHT
TZOFFSETFROM:+0100
TZOFFSETTO:+0200
TZNAME:CEST
DTSTART:20230326T010000
END:DAYLIGHT
BEGIN:STANDARD
TZOFFSETFROM:+0200
TZOFFSETTO:+0100
TZNAME:CET
DTSTART:20231029T010000
END:STANDARD
BEGIN:DAYLIGHT
TZOFFSETFROM:+0100
TZOFFSETTO:+0200
TZNAME:CEST
DTSTART:20240331T010000
END:DAYLIGHT
BEGIN:STANDARD
TZOFFSETFROM:+0200
TZOFFSETTO:+0100
TZNAME:CET
DTSTART:20241027T010000
END:STANDARD
END:VTIMEZONE
BEGIN:VEVENT
DTSTART;TZID=Europe/Paris:20230826T080000
DTEND;TZID=Europe/Paris:20230826T170000
DTSTAMP:20260421T113023
CREATED:20230313T200531Z
LAST-MODIFIED:20230313T200531Z
UID:28648-1693036800-1693069200@asgolfslacanau.org
SUMMARY:Division 1A Régionale Séniors 2
DESCRIPTION:Division 1A Régionale Séniors 2 \nGolf de Mont De Marsan – Ligue
URL:https://asgolfslacanau.org/evenement/division-1a-regionale-seniors-2/
CATEGORIES:EQUIPE 1 SENIORS MESSIEURS
END:VEVENT
END:VCALENDAR