BEGIN:VCALENDAR
VERSION:2.0
PRODID:-//Association Sportive des Golfs de Lacanau - ECPv6.15.20//NONSGML v1.0//EN
CALSCALE:GREGORIAN
METHOD:PUBLISH
X-WR-CALNAME:Association Sportive des Golfs de Lacanau
X-ORIGINAL-URL:https://asgolfslacanau.org
X-WR-CALDESC:Évènements pour Association Sportive des Golfs de Lacanau
REFRESH-INTERVAL;VALUE=DURATION:PT1H
X-Robots-Tag:noindex
X-PUBLISHED-TTL:PT1H
BEGIN:VTIMEZONE
TZID:Europe/Paris
BEGIN:DAYLIGHT
TZOFFSETFROM:+0100
TZOFFSETTO:+0200
TZNAME:CEST
DTSTART:20170326T010000
END:DAYLIGHT
BEGIN:STANDARD
TZOFFSETFROM:+0200
TZOFFSETTO:+0100
TZNAME:CET
DTSTART:20171029T010000
END:STANDARD
BEGIN:DAYLIGHT
TZOFFSETFROM:+0100
TZOFFSETTO:+0200
TZNAME:CEST
DTSTART:20180325T010000
END:DAYLIGHT
BEGIN:STANDARD
TZOFFSETFROM:+0200
TZOFFSETTO:+0100
TZNAME:CET
DTSTART:20181028T010000
END:STANDARD
BEGIN:DAYLIGHT
TZOFFSETFROM:+0100
TZOFFSETTO:+0200
TZNAME:CEST
DTSTART:20190331T010000
END:DAYLIGHT
BEGIN:STANDARD
TZOFFSETFROM:+0200
TZOFFSETTO:+0100
TZNAME:CET
DTSTART:20191027T010000
END:STANDARD
END:VTIMEZONE
BEGIN:VEVENT
DTSTART;TZID=Europe/Paris:20180219T100000
DTEND;TZID=Europe/Paris:20180219T153000
DTSTAMP:20260421T175254
CREATED:20180125T113548Z
LAST-MODIFIED:20180125T113548Z
UID:3061-1519034400-1519054200@asgolfslacanau.org
SUMMARY:4ème Compétition EDG sur l'Ardilouse
DESCRIPTION:
URL:https://asgolfslacanau.org/evenement/4eme-competition-edg-sur-lardilouse/
CATEGORIES:EDG LACANAU
END:VEVENT
END:VCALENDAR